BEGIN:VCALENDAR
VERSION:2.0
PRODID:-//Ases-DF - ECPv6.5.1.5//NONSGML v1.0//EN
CALSCALE:GREGORIAN
METHOD:PUBLISH
X-ORIGINAL-URL:https://ases-df.org.br/novo
X-WR-CALDESC:Eventos para Ases-DF
REFRESH-INTERVAL;VALUE=DURATION:PT1H
X-Robots-Tag:noindex
X-PUBLISHED-TTL:PT1H
BEGIN:VTIMEZONE
TZID:America/Sao_Paulo
BEGIN:STANDARD
TZOFFSETFROM:-0300
TZOFFSETTO:-0300
TZNAME:-03
DTSTART:20260101T000000
END:STANDARD
END:VTIMEZONE
BEGIN:VEVENT
DTSTART;TZID=America/Sao_Paulo:20260327T210000
DTEND;TZID=America/Sao_Paulo:20260327T233000
DTSTAMP:20260421T091943
CREATED:20260327T175309Z
LAST-MODIFIED:20260327T184129Z
UID:25853-1774645200-1774654200@ases-df.org.br
SUMMARY:LH e Banda
DESCRIPTION:🎶 LH e Banda no Clube Ases | Sexta-feira\, 27/03/2026 | 21h \n📧 Reservas (associados): eventos@ases-df.org.br \n🔗 Ingressos para convidados \nO Clube Ases recebe\, pela primeira vez\, a LH e Banda\, projeto que vem conquistando o público de Brasília com shows vibrantes e cheios de energia. Formada por músicos consagrados da cena brasiliense\, a banda reúne experiência\, qualidade musical e presença de palco. \n📅 Data: 27 de março de 2026 (sexta-feira)\n🕗 Evento: a partir das 20h\n🎤 Show: a partir das 21h \n✅ Entrada gratuita para associados\n🎟 200 ingressos disponíveis \nℹ️ Informações importantes\n* O ingresso não inclui bebidas e comidas\n* Haverá venda de comidas e bebidas no local\n* Não haverá espaço kids \nSerão disponibilizadas mesas de 4 e 7 lugares e mesas bistrô com 4 lugares.\nNão haverá reserva de mesas; a utilização será por ordem de chegada. As mesas são de uso coletivo\, podendo ocorrer compartilhamento com outros convidados. \n📩 Reservas para associados (exclusivamente pelo titular)\n🗓 Das 08h de 16/03/2026 até às 18h de 23/03/2026\n📧 eventos@ases-df.org.br \nPara confirmação da participação\, o associado deve estar com as mensalidades em dia\, tanto no momento da reserva quanto no dia do evento. \nComo o evento possui vagas limitadas a 200\, o associado que realizar a reserva e não cancelar dentro do prazo\, impedindo a liberação da vaga para lista de espera\, estará sujeito à cobrança de R$ 50\,00\, valor destinado a colaborar com o custeio do evento. \n❗ Cancelamento\n📧 eventos@ases-df.org.br\n🗓 24/03/2026 até às 18h
URL:https://ases-df.org.br/novo/event/lh-e-banda/
END:VEVENT
END:VCALENDAR